{"text_format":"3","workbook":"xlsx","n_sheets":4,"sheets":["TOSHIBA_HITACHI_SKYWORTH","Кондиционеры Toshiba","WiZ_Performance","Лист1"],"not_rendered":{"images":29,"defined_names":6,"comments":1},"read":"whole","date_system":"1900"}

{"sheet":"TOSHIBA_HITACHI_SKYWORTH","index":0,"n_rows":31,"n_cols":19,"rows_kept":31,"merged":[[0,7,0,8],[2,7,2,8],[3,7,3,8],[4,7,4,8],[7,1,7,10],[17,1,17,10],[23,1,23,10],[29,1,29,10]]}
[{"$nulls":7},"Сумма отгрузки",null,{"$f":"SUM(K9:K17,K19:K23,K25:K28)","v":{"v":0,"d":"0.0 "}},"руб."]
[{"$nulls":7},"Количество к отгрузке",null,{"$f":"SUM(J9:J17,J19:J23,J25:J28)","v":0},"шт."]
[{"$nulls":7},"Объем, кг.",null,{"$f":"SUM(M9:M17,M19:M23,M25:M28)","v":0},"кг."]
[null,"Смородин Виталий",{"$nulls":5},"Объем, м3",null,{"$f":"SUM(O9:O17,O19:O23,O25:O28)","v":{"v":0,"d":"0.00"}},"м3"]
[null,"phone +7-999-467-88-48",{"$nulls":5},"Кол-во паллет",null,{"$f":"SUM(Q9:Q17,Q19:Q23,Q25:Q28)","v":{"v":0,"d":"0.0"}},"шт."]
[null,"e-mail smorodin@uniondistribution.eu"]
[null,"e-mail smorodin@uniondistribution.eu",null,"EAN","Цена партнера, отсрочка, руб.","Цена партнера, предоплата, руб.","Цена в интернете, руб.","Фронтальная маржинальность, %","Наценка партнера, %",null,"Сумма отгрузки, руб.","Объем, кг.","Общий, объем, кг.","Объем, м3","Общий объем, м3","Мин. Кол-во в паллете, шт.","Кол-во паллет","Consumption per Month","Monthly Cost"]
["Артикул","TOSHIBA",{"$nulls":15},{"$f":"IF(G8<>\"\",IF(#REF!<>\"\",G8*#REF!,G8*30),\"\")","v":""},{"$f":"IF(R8<>\"\",R8*#REF!,\"\")","v":""}]
["22S1650EV","TOSHIBA 22S1650EV","6221127010527","FHD, T2",{"v":7992,"d":"7,992"},{"$f":"7832*(100%-1.5%)","v":{"v":7714.5199999999995,"d":"7,715 руб."}},{"v":9990,"d":"9,990 руб."},{"$f":"(G9-E9)/G9","v":{"v":0.2,"d":"20%"}},{"$f":"(G9-E9)/E9","v":{"v":0.25,"d":"25%"}},null,{"$f":"J9*E9","v":{"v":0,"d":"0 "}},3.3,{"$f":"L9*J9","v":{"v":0,"d":"0.0"}},0.02,{"$f":"N9*J9","v":{"v":0,"d":"0.00"}},70,{"$f":"J9/P9","v":0},{"$f":"IF(G9<>\"\",IF(#REF!<>\"\",G9*#REF!,G9*30),\"\")","v":{"$error":"#REF!"}},{"$f":"IF(R9<>\"\",R9*#REF!,\"\")","v":{"$error":"#REF!"}}]
["32S2855EC","TOSHIBA 32S2855EC","6221127015607","HD-R, DVB-T/T2/C/C2, CI+, 6W+6W, ",{"v":11192,"d":"11,192"},{"v":10968,"d":"10,968 руб."},{"v":13990,"d":"13,990 руб."},{"$f":"(G10-E10)/G10","v":{"v":0.2,"d":"20%"}},{"v":0.25,"d":"25%"},null,{"v":0,"d":"0 "},{"v":4,"d":"4.0"},{"v":0,"d":"0.0"},0.06,{"v":0,"d":"0.00"},32,0]
["32L5780EC ","TOSHIBA 32L5780EC ","6221127013979","HD-R, SMART, FOXXUM PORTAL , T/T2/C ",{"v":12792,"d":"12,792"},{"v":12536,"d":"12,536 руб."},{"v":15990,"d":"15,990 руб."},{"v":0.2,"d":"20%"},{"v":0.25,"d":"25%"},null,{"v":0,"d":"0 "},4.3,{"v":0,"d":"0.0"},0.05,{"v":0,"d":"0.00"},36,0,{"$f":"IF(G11<>\"\",IF(#REF!<>\"\",G11*#REF!,G11*30),\"\")","v":{"$error":"#REF!"}},{"$f":"IF(R11<>\"\",R11*#REF!,\"\")","v":{"$error":"#REF!"}}]
["40S2855EC","TOSHIBA 40S2855EC","6221127015614","FULL HD, DVB-T/T2/C/C2, 6W +6W, USB 2.0 - 1 side, HDMI terminals - 2",{"v":15992,"d":"15,992"},{"v":15672,"d":"15,672 руб."},{"v":19990,"d":"19,990 руб."},{"v":0.2,"d":"20%"},{"$f":"(G12-E12)/E12","v":{"v":0.25,"d":"25%"}},null,{"v":0,"d":"0 "},5.6,{"v":0,"d":"0.0"},0.08,{"v":0,"d":"0.00"},15,0,{"$f":"IF(G12<>\"\",IF(#REF!<>\"\",G12*#REF!,G12*30),\"\")","v":{"$error":"#REF!"}},{"$f":"IF(R12<>\"\",R12*#REF!,\"\")","v":{"$error":"#REF!"}}]
["43L5780EC ","TOSHIBA 43L5780EC ","6221127013986","FULL HD, SMART, FOXXUM PORTAL , T/T2/C, 10W+10W ",{"v":20792,"d":"20,792"},{"v":20376,"d":"20,376 руб."},{"v":25990,"d":"25,990 руб."},{"v":0.2,"d":"20%"},{"v":0.25,"d":"25%"},null,{"v":0,"d":"0 "},9.6,{"v":0,"d":"0.0"},0.11,{"v":0,"d":"0.00"},15,0,{"$f":"IF(G13<>\"\",IF(#REF!<>\"\",G13*#REF!,G13*30),\"\")","v":{"$error":"#REF!"}},{"$f":"IF(R13<>\"\",R13*#REF!,\"\")","v":{"$error":"#REF!"}}]
["43U7752EV ","TOSHIBA 43U7752EV ","6221127016444","UHD (4K), Smart portal Zeasn, 8W+8W,  DVB-T/T2/C/C2",{"v":21937,"d":"21,937"},{"v":21500,"d":"21,500 руб."},{"v":28490,"d":"28,490 руб."},{"v":0.23001053001053,"d":"23%"},{"v":0.29871905912385466,"d":"30%"},null,{"v":0,"d":"0 "},{"v":8,"d":"8.0"},{"v":0,"d":"0.0"},{"v":0.1,"d":"0.10"},{"v":0,"d":"0.00"},15,0,{"$f":"IF(G14<>\"\",IF(#REF!<>\"\",G14*#REF!,G14*30),\"\")","v":{"$error":"#REF!"}},{"$f":"IF(R14<>\"\",R14*#REF!,\"\")","v":{"$error":"#REF!"}}]
["49U5855EC ","TOSHIBA 49U5855EC ","6221127016246","UHD (4K) (3840*2160) / CI+, ONKYO speaker,  DVB-T/T2/C/C2",{"v":26992,"d":"26,992"},{"v":26452,"d":"26,452 руб."},{"v":35990,"d":"35,990 руб."},{"v":0.2500138927479856,"d":"25%"},{"v":0.3333580320094843,"d":"33%"},null,{"v":0,"d":"0 "},9.7,{"v":0,"d":"0.0"},0.16,{"v":0,"d":"0.00"},12,0,{"$f":"IF(G15<>\"\",IF(#REF!<>\"\",G15*#REF!,G15*30),\"\")","v":{"$error":"#REF!"}},{"$f":"IF(R15<>\"\",R15*#REF!,\"\")","v":{"$error":"#REF!"}}]
["55U5855EC ","TOSHIBA 55U5855EC ","6221127016253","UHD (4K) (3840*2160) / CI+, ONKYO speaker,  DVB-T/T2/C/C2",{"v":34492,"d":"34,492"},{"v":33802,"d":"33,802 руб."},{"v":45990,"d":"45,990 руб."},{"v":0.25001087192868016,"d":"25%"},{"v":0.33335266148672155,"d":"33%"},null,{"v":0,"d":"0 "},12.9,{"v":0,"d":"0.0"},0.19,{"v":0,"d":"0.00"},8,0]
["65U5855EC ","TOSHIBA 65U5855EC ","6221127016260","UHD (4K) (3840*2160), CI+,  DVB-T/T2/C/C2",{"v":52492,"d":"52,492"},{"v":51442,"d":"51,442 руб."},{"v":69990,"d":"69,990 руб."},{"v":0.2500071438776968,"d":"25%"},{"v":0.3333460336813229,"d":"33%"},null,{"v":0,"d":"0 "},{"v":12,"d":"12.0"},{"v":0,"d":"0.0"},0.14,{"v":0,"d":"0.00"},3,0]
[null,"HITACHI"]
["40HB6T62 L","HITACHI 40HB6T62 L","5014024002617","FHD, SMART, DLED,  DVB-T2/C, встр. WIFI. ",{"v":22012,"d":"22,012"},{"v":21581,"d":"21,581 руб."},{"v":25990,"d":"25,990 руб."},{"$f":"(G19-F19)/G19","v":{"v":0.16964217006540977,"d":"17%"}},{"$f":"(G19-F19)/F19","v":{"v":0.20430007877299478,"d":"20%"}},null,{"$f":"J19*E19","v":{"v":0,"d":"0 "}},10.3,{"$f":"L19*J19","v":{"v":0,"d":"0.0"}},{"v":0.115,"d":"0.12"},{"$f":"N19*J19","v":{"v":0,"d":"0.00"}},8,{"$f":"J19/P19","v":0}]
["43HL15W64","HITACHI 43HL15W64","5014024004376","UHD, HDR10, SMART, DLED,  DVB-T2/C/S2, встр. WIFI.",{"v":24888,"d":"24,888"},{"v":24400,"d":"24,400 руб."},{"v":29990,"d":"29,990 руб."},{"$f":"(G20-F20)/G20","v":{"v":0.18639546515505168,"d":"19%"}},{"$f":"(G20-F20)/F20","v":{"v":0.22909836065573772,"d":"23%"}},null,{"$f":"J20*E20","v":{"v":0,"d":"0 "}},{"v":14,"d":"14.0"},{"$f":"L20*J20","v":{"v":0,"d":"0.0"}},0.15,{"$f":"N20*J20","v":{"v":0,"d":"0.00"}},8,{"$f":"J20/P20","v":0}]
["49HL15W64 A","HITACHI 49HL15W64 A","5014024004383","UHD, HDR10, SMART, DLED,  DVB-T2/C/S2, встр. WIFI.",{"v":30140,"d":"30,140"},{"v":29550,"d":"29,550 руб."},{"v":35990,"d":"35,990 руб."},{"v":0.17893859405390386,"d":"18%"},{"v":0.2179357021996616,"d":"22%"},null,{"$f":"J21*E21","v":{"v":0,"d":"0 "}},16.3,{"$f":"L21*J21","v":{"v":0,"d":"0.0"}},{"v":0.155,"d":"0.16"},{"$f":"N21*J21","v":{"v":0,"d":"0.00"}},8,{"$f":"J21/P21","v":0}]
["55HL15W64 A","55HL15W64 A","5014024004390","UHD, HDR10, SMART, DLED,  DVB-T2/C/S2, встр. WIFI.",{"v":40570,"d":"40,570"},{"v":39776,"d":"39,776 руб."},{"v":49990,"d":"49,990 руб."},{"v":0.20432086417283457,"d":"20%"},{"v":0.2567880128720837,"d":"26%"},null,{"$f":"J22*E22","v":{"v":0,"d":"0 "}},20.2,{"$f":"L22*J22","v":{"v":0,"d":"0.0"}},{"v":0.197,"d":"0.20"},{"$f":"N22*J22","v":{"v":0,"d":"0.00"}},8,{"$f":"J22/P22","v":0}]
["65HZ6W69 ","HITACHI 65HZ6W69 ","5014024002662","UHD, HDR10, SMART, DLED,  DVB-T2/C/S2, встр. WIFI.",{"$f":"60000*(100%+2%)","v":{"v":61200,"d":"61,200"}},{"v":60000,"d":"60,000 руб."},{"v":77990,"d":"77,990 руб."},{"v":0.23067059879471727,"d":"23%"},{"v":0.29983333333333334,"d":"30%"},null,{"$f":"J23*E23","v":{"v":0,"d":"0 "}},43.6,{"$f":"L23*J23","v":{"v":0,"d":"0.0"}},{"v":0.268,"d":"0.27"},{"$f":"N23*J23","v":{"v":0,"d":"0.00"}},1,{"$f":"J23/P23","v":0}]
[null,"SKYWORTH",{"$nulls":10},{"$f":"L24*J24","v":{"v":0,"d":"0.0"}},null,{"$f":"N24*J24","v":{"v":0,"d":"0.00"}}]
["40E3","Skyworth 40E3",null,"FHD, Opera Smart TV, DVB-T2/C/S2, встр. WIFI.",{"v":18722,"d":"18,722"},{"v":18355,"d":"18,355 руб."},{"v":22999,"d":"22,999 руб."},{"v":0.2,"d":"20%"},{"v":0.25,"d":"25%"},null,{"$f":"J25*E25","v":{"v":0,"d":"0 "}},null,{"v":0,"d":"0.0"},null,{"v":0,"d":"0.00"},10,{"$f":"J25/P25","v":0}]
["43U5","Skyworth 43U5","4895018223550","UHD, Android, Smart, DVB-T2, Voice control",{"v":27677,"d":"27,677"},{"v":27135,"d":"27,135 руб."},{"v":32990,"d":"32,990 руб."},{"v":0.21,"d":"21%"},{"v":0.26,"d":"26%"},null,{"$f":"J26*E26","v":{"v":0,"d":"0 "}},12.3,{"v":0,"d":"0.0"},0.11,{"v":0,"d":"0.00"},11,0]
["50U5","Skyworth 50U5","4895018221105","UHD, Android, Smart, DVB-T2, Voice control",{"v":32586,"d":"32,586"},{"v":31948,"d":"31,948 руб."},{"v":38990,"d":"38,990 руб."},{"v":0.21,"d":"21%"},{"v":0.26,"d":"26%"},null,{"$f":"J27*E27","v":{"v":0,"d":"0 "}},15.8,{"v":0,"d":"0.0"},0.14,{"v":0,"d":"0.00"},11,0]
["55U5","Skyworth 55U5","4895018223536","UHD, Android, Smart, DVB-T2, Voice control",{"v":37136,"d":"37,136"},{"v":36408,"d":"36,408 руб."},{"v":47999,"d":"47,999 руб."},{"$f":"(G28-F28)/G28","v":{"v":0.24148419758744974,"d":"24%"}},{"$f":"(G28-F28)/F28","v":{"v":0.3183640958031202,"d":"32%"}},null,{"$f":"J28*E28","v":{"v":0,"d":"0 "}},18.7,{"$f":"L28*J28","v":{"v":0,"d":"0.0"}},0.17,{"v":0,"d":"0.00"},10,0]
["49G6","Skyworth 49G6",null,"UHD, Android, Smart, DVB-T2, Voice control",{"v":33025.56,"d":"33,026"},{"v":32378,"d":"32,378 руб."},{"v":39999,"d":"39,999 руб."},{"$f":"(G29-F29)/G29","v":{"v":0.1905297632440811,"d":"19%"}},{"$f":"(G29-F29)/F29","v":{"v":0.2353758725060226,"d":"24%"}},null,{"$f":"J29*E29","v":{"v":0,"d":"0 "}},18.7,{"$f":"L29*J29","v":{"v":0,"d":"0.0"}},0.17,{"$f":"N29*J29","v":{"v":0,"d":"0.00"}},10,{"$f":"J29/P29","v":0}]
[]
[{"$nulls":9},{"$f":"SUM(J9:J17,J19:J23,J25:J28)","v":0},{"$f":"SUM(K9:K17,K19:K23,K25:K28)","v":0}]

{"sheet":"Кондиционеры Toshiba","index":1,"n_rows":11,"n_cols":9,"rows_kept":11,"merged":[[0,1,0,8],[2,1,2,8],[3,1,3,8],[4,1,4,5]]}
[null,"       split-systems"]
[null,"Настенные сплит-системы U2KH3S"]
[null,"Надежная и экономичная сплит-система без инвертора. Внутренний блок весит всего 7 кг. Охлаждение, обогрев, осушение воздуха"]
[]
[]
[null,"Модель (внешний/внутренний блок)","Ключевые характеристики","Цена партнера, предоплата","Цена партнера, отсрочка","РРЦ","Наценка","Заказ партнера","Сумма"]
[null,"RAS-09U2AH3S-EE/RAS-09U2KH3S-EE","AF22, R410a HP, FS, 7/9/12/18/24K",{"$f":"16526*(100%-2%)","v":{"v":16195.48,"d":"16,195 руб."}},{"v":16526,"d":"16,526 руб."},{"v":20999,"d":"20,999 руб."},{"$f":"(ProductPriceList[[#This Row],[РРЦ]]-ProductPriceList[[#This Row],[Цена партнера, предоплата]])/ProductPriceList[[#This Row],[Цена партнера, предоплата]]","v":{"v":0.2965963342858625,"d":"30%"}},15,{"$f":"ProductPriceList[[#This Row],[Заказ партнера]]*ProductPriceList[[#This Row],[Цена партнера, предоплата]]","v":{"v":242932.19999999998,"d":"242,932 руб."}}]
[null,"RAS-12U2AH3S-EE/RAS-12U2KH3S-EE","AF22, R410a HP, FS, 7/9/12/18/24K",{"$f":"18586*(100%-2%)","v":{"v":18214.28,"d":"18,214 руб."}},{"v":18586,"d":"18,586 руб."},{"v":24350,"d":"24,350 руб."},{"$f":"(ProductPriceList[[#This Row],[РРЦ]]-ProductPriceList[[#This Row],[Цена партнера, предоплата]])/ProductPriceList[[#This Row],[Цена партнера, предоплата]]","v":{"v":0.3368631645060909,"d":"34%"}},24,{"$f":"ProductPriceList[[#This Row],[Заказ партнера]]*ProductPriceList[[#This Row],[Цена партнера, предоплата]]","v":{"v":437142.72,"d":"437,143 руб."}}]
[null,"RAS-18U2AH3S-EE/RAS-18U2KH3S-EE","AF22, R410a HP, FS, 7/9/12/18/24K",{"$f":"27766*(100%-2%)","v":{"v":27210.68,"d":"27,211 руб."}},{"v":27766,"d":"27,766 руб."},{"v":36290,"d":"36,290 руб."},{"$f":"(ProductPriceList[[#This Row],[РРЦ]]-ProductPriceList[[#This Row],[Цена партнера, предоплата]])/ProductPriceList[[#This Row],[Цена партнера, предоплата]]","v":{"v":0.333667515843044,"d":"33%"}},null,{"$f":"ProductPriceList[[#This Row],[Заказ партнера]]*ProductPriceList[[#This Row],[Цена партнера, предоплата]]","v":{"v":0,"d":"0 руб."}}]
[null,"RAS-24U2AH3S-EE/RAS-24U2KH3S-EE","AF22, R410a HP, FS, 7/9/12/18/24K",{"$f":"37561*(100%-2%)","v":{"v":36809.78,"d":"36,810 руб."}},{"v":37561,"d":"37,561 руб."},{"v":47080,"d":"47,080 руб."},{"$f":"(ProductPriceList[[#This Row],[РРЦ]]-ProductPriceList[[#This Row],[Цена партнера, предоплата]])/ProductPriceList[[#This Row],[Цена партнера, предоплата]]","v":{"v":0.2790079158310645,"d":"28%"}},null,{"$f":"ProductPriceList[[#This Row],[Заказ партнера]]*ProductPriceList[[#This Row],[Цена партнера, предоплата]]","v":{"v":0,"d":"0 руб."}}]
[{"$nulls":8},{"$f":"SUBTOTAL(109,[Сумма])","v":{"v":680074.9199999999,"d":"680,075 руб."}}]

{"sheet":"WiZ_Performance","index":2,"n_rows":21,"n_cols":11,"rows_kept":21}
["        Price List"]
[]
[]
["Company Name","Union Distribution"]
["Brand","WIZ"]
["City/State/Zip","Novosibirsk"]
["Country","Russia"]
["Last Updated:","2019-02-08"]
[]
["Модель","Ключевые характеристики","Цена партнера, онлайн-канал","Цена партнера, предоплата","Цена партнера, отсрочка","РРЦ","Маржинальность, онлайн-канал","Маржинальность, розница","Маркетинг","Заказ, шт.","Сумма, руб."]
["A E27 WiZ60 TR S","A E27 WiZ60 TR - kit of 2 - with RC\n RGB & 806lm (2200K ~ 6500K) - tunable White and RGB,",{"v":4328.3625,"d":"4,328 руб"},{"v":3895.5262500000003,"d":"3,896 руб"},{"v":3973.4367750000006,"d":"3,973 руб"},{"v":5799,"d":"5,799 руб"},{"$f":"(F11-C11)/F11","v":{"v":0.25360191412312466,"d":"25%"}},{"$f":"(F11-D11)/F11","v":{"v":0.32824172271081214,"d":"33%"}},{"v":0.1,"d":"10%"},null,{"$f":"Table1[[#This Row],[Заказ, шт.]]*Table1[[#This Row],[Цена партнера, отсрочка]]","v":{"v":0,"d":"0 руб"}}]
["GU10 WiZ35 TR S","GU10 WiZ35 TR S - WiZ TR - white - kit of 2 - with RC\n RGB & 345lm (2200K ~ 6500K) - tunable White and RGB",{"v":4328.3625,"d":"4,328 руб"},{"v":3895.5262500000003,"d":"3,896 руб"},{"v":3973.4367750000006,"d":"3,973 руб"},{"v":5799,"d":"5,799 руб"},{"$f":"(F12-C12)/F12","v":{"v":0.25360191412312466,"d":"25%"}},{"$f":"(F12-D12)/F12","v":{"v":0.32824172271081214,"d":"33%"}},{"v":0.1,"d":"10%"},null,{"$f":"Table1[[#This Row],[Заказ, шт.]]*Table1[[#This Row],[Цена партнера, отсрочка]]","v":{"v":0,"d":"0 руб"}}]
["WiZ RC","WiZ remote control S - WiZ - white - kit of 1",{"v":574.6125,"d":"575 руб"},{"v":517.15125,"d":"517 руб"},{"v":527.494275,"d":"527 руб"},{"v":799,"d":"799 руб"},{"v":0.28083541927409267,"d":"28%"},{"v":0.35275187734668334,"d":"35%"},{"v":0.1,"d":"10%"},null,{"$f":"Table1[[#This Row],[Заказ, шт.]]*Table1[[#This Row],[Цена партнера, отсрочка]]","v":{"v":0,"d":"0 руб"}}]
["GU10 WiZ35 TW-H","GU10 WiZ35 TW - WiZ TW - white - kit of 1 - without RC\n 350lm (2700K ~ 6500K) - tunable White",{"v":1440.8625,"d":"1,441 руб"},{"v":1296.77625,"d":"1,297 руб"},{"v":1322.711775,"d":"1,323 руб"},{"v":1999,"d":"1,999 руб"},{"v":0.27920835417708856,"d":"28%"},{"v":0.35128751875937975,"d":"35%"},{"v":0.1,"d":"10%"},null,{"$f":"Table1[[#This Row],[Заказ, шт.]]*Table1[[#This Row],[Цена партнера, отсрочка]]","v":{"v":0,"d":"0 руб"}}]
["A E27 WiZ60 TW","A E27 WiZ60 TW - WiZ TW - white - kit of 1 - without RC\n 806lm (2700K ~ 6500K) - tunable White",{"v":1440.8625,"d":"1,441 руб"},{"v":1296.77625,"d":"1,297 руб"},{"v":1322.711775,"d":"1,323 руб"},{"v":1999,"d":"1,999 руб"},{"v":0.27920835417708856,"d":"28%"},{"v":0.35128751875937975,"d":"35%"},{"v":0.1,"d":"10%"},null,{"$f":"Table1[[#This Row],[Заказ, шт.]]*Table1[[#This Row],[Цена партнера, отсрочка]]","v":{"v":0,"d":"0 руб"}}]
["A E27 WiZ60 TW","A E27 WiZ60 TW - WiZ TW - white - kit of 2 - without RC\n 806lm (2700K ~ 6500K) - tunable White",{"v":2884.6125,"d":"2,885 руб"},{"v":2596.1512500000003,"d":"2,596 руб"},{"v":2648.0742750000004,"d":"2,648 руб"},{"v":3899,"d":"3,899 руб"},{"v":0.2601660682226211,"d":"26%"},{"v":0.334149461400359,"d":"33%"},{"v":0.1,"d":"10%"},null,{"$f":"Table1[[#This Row],[Заказ, шт.]]*Table1[[#This Row],[Цена партнера, отсрочка]]","v":{"v":0,"d":"0 руб"}}]
["C E14 WiZ30 TR S","C E14 WiZ30 TR S - WiZ TR - white - kit of 1 - without RC\n RGB & 400lm (2200K ~ 6500K) - tunable White and RGB",{"v":2018.3625000000002,"d":"2,018 руб"},{"v":1816.5262500000001,"d":"1,817 руб"},{"v":1852.8567750000002,"d":"1,853 руб"},{"v":2699,"d":"2,699 руб"},{"v":0.252181363467951,"d":"25%"},{"v":0.32696322712115594,"d":"33%"},{"v":0.1,"d":"10%"},null,{"$f":"Table1[[#This Row],[Заказ, шт.]]*Table1[[#This Row],[Цена партнера, отсрочка]]","v":{"v":0,"d":"0 руб"}}]
["C E14 WiZ30 TR S","C E14 WiZ30 TR S - WiZ TR - white - kit of 2 - with RC\n RGB & 400lm (2200K ~ 6500K) - tunable White and RGB",{"v":4328.3625,"d":"4,328 руб"},{"v":3895.5262500000003,"d":"3,896 руб"},{"v":3973.4367750000006,"d":"3,973 руб"},{"v":5799,"d":"5,799 руб"},{"v":0.25360191412312466,"d":"25%"},{"v":0.32824172271081214,"d":"33%"},{"v":0.1,"d":"10%"},null,{"$f":"Table1[[#This Row],[Заказ, шт.]]*Table1[[#This Row],[Цена партнера, отсрочка]]","v":{"v":0,"d":"0 руб"}}]
["A E27 WiZ60 TR","A E27 WiZ60 TR - WiZ TR - white - kit of 1 - without RC\nRGB & 806lm (2200K ~ 6500K) - tunable White and RGB",{"v":2018.3625000000002,"d":"2,018 руб"},{"v":1816.5262500000001,"d":"1,817 руб"},{"v":1852.8567750000002,"d":"1,853 руб"},{"v":2699,"d":"2,699 руб"},{"v":0.252181363467951,"d":"25%"},{"v":0.32696322712115594,"d":"33%"},{"v":0.1,"d":"10%"},null,{"$f":"Table1[[#This Row],[Заказ, шт.]]*Table1[[#This Row],[Цена партнера, отсрочка]]","v":{"v":0,"d":"0 руб"}}]
["G100 E27 WiZ100 TR","G100 E27 WiZ100 TR - WiZ TR - white - kit of 1 - without RC\n RGB & 1550lm (2200K ~ 6500K) - tunable White and RGB",{"v":2884.6125,"d":"2,885 руб"},{"v":2596.1512500000003,"d":"2,596 руб"},{"v":2648.0742750000004,"d":"2,648 руб"},{"v":3899,"d":"3,899 руб"},{"v":0.2601660682226211,"d":"26%"},{"v":0.334149461400359,"d":"33%"},{"v":0.1,"d":"10%"},null,{"$f":"Table1[[#This Row],[Заказ, шт.]]*Table1[[#This Row],[Цена партнера, отсрочка]]","v":{"v":0,"d":"0 руб"}}]
["QUEWZ-01","Quest - WiZ TR - Matt White - without RC\n Portable projector IP20Tunnable white & RGB",{"v":4039.6125,"d":"4,040 руб"},{"v":3635.6512500000003,"d":"3,636 руб"},{"v":3708.3642750000004,"d":"3,708 руб"},{"v":5399,"d":"5,399 руб"},{"v":0.2517850527875532,"d":"25%"},{"v":0.32660654750879786,"d":"33%"},{"v":0.1,"d":"10%"},null,{"$f":"Table1[[#This Row],[Заказ, шт.]]*Table1[[#This Row],[Цена партнера, отсрочка]]","v":{"v":0,"d":"0 руб"}}]

{"sheet":"Лист1","index":3,"n_rows":0,"n_cols":0,"rows_kept":0}